BEGIN:VCALENDAR
VERSION:2.0
PRODID:-//UPA India - ECPv6.15.20//NONSGML v1.0//EN
CALSCALE:GREGORIAN
METHOD:PUBLISH
X-WR-CALNAME:UPA India
X-ORIGINAL-URL:https://upaindia.org
X-WR-CALDESC:Events for UPA India
REFRESH-INTERVAL;VALUE=DURATION:PT1H
X-Robots-Tag:noindex
X-PUBLISHED-TTL:PT1H
BEGIN:VTIMEZONE
TZID:Asia/Kolkata
BEGIN:STANDARD
TZOFFSETFROM:+0530
TZOFFSETTO:+0530
TZNAME:IST
DTSTART:20250101T000000
END:STANDARD
END:VTIMEZONE
BEGIN:VEVENT
DTSTART;TZID=Asia/Kolkata:20260502T080000
DTEND;TZID=Asia/Kolkata:20260504T170000
DTSTAMP:20260421T135340
CREATED:20260412T142319Z
LAST-MODIFIED:20260418T070333Z
UID:25309-1777708800-1777914000@upaindia.org
SUMMARY:State Championship
DESCRIPTION:EventsUnited Powerlifting Association (UPA)				\n				\n					\n		\n					\n		\n				\n						\n					\n			\n						\n				\n							\n			\n		\n						\n				\n					\n		\n					\n		\n				\n						\n					\n			\n						\n				\n					UPA AchievementsSHOWCASING STRENGTH \nACROSS INDIA				\n				\n				\n				\n							\n			\n		\n						\n				\n				\n				\n									United Powerlifting Association regularly organizes state\, regional\, and national level championships to provide athletes with opportunities to compete\, improve their performance\, and gain recognition in the sport. The upcoming championship will bring together powerlifters from different states to compete across multiple categories including Classic and Equipped divisions for both men and women. Participants from Sub-Junior\, Junior\, Open\, and Masters categories will compete in the following events: Full PowerliftingBench PressDeadlift								\n				\n					\n		\n				\n			\n						\n				\n							\n						\n						\n					\n			\n						\n				\n							\n			\n		\n						\n				\n					\n		\n					\n		\n				\n						\n					\n			\n						\n				\n					Upcoming  Events				\n				\n				\n				\n							\n			\n		\n						\n				\n					\n		\n					\n		\n				\n						\n					\n			\n						\n				\n					\n		\n					State Championship\n\n            Nashik\n				May 2\, 2026-May 4\, 2026\n            \n\n                            \n                    Read more\n                \n		\n	\n    \n\n		\n					western India Championship\n\n            Gondia\n				June 12\, 2026-June 14\, 2026\n            \n\n                            \n                    Read more\n                \n		\n	\n    \n\n		\n					National Championships\n\n            Chattisgarh\n				July 30\, 2026-August 2\, 2026\n            \n\n                            \n                    Read more\n                \n		\n	\n    \n				\n				\n				\n				\n					\n	« All Events\n				\n				\n					\n		\n					\n		\n				\n						\n				\n					\n		\n					\n		\n				\n						\n					\n			\n						\n				\n							\n			\n		\n						\n				\n					\n		\n					\n		\n				\n						\n					\n			\n						\n				\n							\n			\n		\n						\n				\n				\n				\n									The event aims to promote healthy competition\, discover emerging talent\, and prepareathletes for international-level participation under World Powerlifting (WP). UPA continues to create platforms where athletes can showcase their strength\,discipline\, and dedication while promoting the spirit of sportsmanship. Further details regarding event dates\, venue\, and registrations will be announced soon.
URL:https://upaindia.org/upa-event/state-championship/
LOCATION:Nashik\, Nashik\, Maharashtra\, India
CATEGORIES:UPA Events
END:VEVENT
BEGIN:VEVENT
DTSTART;TZID=Asia/Kolkata:20260612T080000
DTEND;TZID=Asia/Kolkata:20260614T170000
DTSTAMP:20260421T135340
CREATED:20260412T142453Z
LAST-MODIFIED:20260412T143307Z
UID:25311-1781251200-1781456400@upaindia.org
SUMMARY:western India Championship
DESCRIPTION:EventsUnited Powerlifting Association (UPA)				\n				\n					\n		\n					\n		\n				\n						\n					\n			\n						\n				\n							\n			\n		\n						\n				\n					\n		\n					\n		\n				\n						\n					\n			\n						\n				\n					UPA AchievementsSHOWCASING STRENGTH \nACROSS INDIA				\n				\n				\n				\n							\n			\n		\n						\n				\n				\n				\n									United Powerlifting Association regularly organizes state\, regional\, and national level championships to provide athletes with opportunities to compete\, improve their performance\, and gain recognition in the sport. The upcoming championship will bring together powerlifters from different states to compete across multiple categories including Classic and Equipped divisions for both men and women. Participants from Sub-Junior\, Junior\, Open\, and Masters categories will compete in the following events: Full PowerliftingBench PressDeadlift								\n				\n					\n		\n				\n			\n						\n				\n							\n						\n						\n					\n			\n						\n				\n							\n			\n		\n						\n				\n					\n		\n					\n		\n				\n						\n					\n			\n						\n				\n					Upcoming  Events				\n				\n				\n				\n							\n			\n		\n						\n				\n					\n		\n					\n		\n				\n						\n					\n			\n						\n				\n					\n		\n					State Championship\n\n            Nashik\n				May 2\, 2026-May 4\, 2026\n            \n\n                            \n                    Read more\n                \n		\n	\n    \n\n		\n					western India Championship\n\n            Gondia\n				June 12\, 2026-June 14\, 2026\n            \n\n                            \n                    Read more\n                \n		\n	\n    \n\n		\n					National Championships\n\n            Chattisgarh\n				July 30\, 2026-August 2\, 2026\n            \n\n                            \n                    Read more\n                \n		\n	\n    \n				\n				\n				\n				\n					\n	« All Events\n				\n				\n					\n		\n					\n		\n				\n						\n				\n					\n		\n					\n		\n				\n						\n					\n			\n						\n				\n							\n			\n		\n						\n				\n					\n		\n					\n		\n				\n						\n					\n			\n						\n				\n							\n			\n		\n						\n				\n				\n				\n									The event aims to promote healthy competition\, discover emerging talent\, and prepareathletes for international-level participation under World Powerlifting (WP). UPA continues to create platforms where athletes can showcase their strength\,discipline\, and dedication while promoting the spirit of sportsmanship. Further details regarding event dates\, venue\, and registrations will be announced soon.
URL:https://upaindia.org/upa-event/western-india-championship/
LOCATION:Gondia\, Gondia\, Maharashtra\, India
CATEGORIES:UPA Events
END:VEVENT
BEGIN:VEVENT
DTSTART;TZID=Asia/Kolkata:20260730T080000
DTEND;TZID=Asia/Kolkata:20260802T170000
DTSTAMP:20260421T135340
CREATED:20260412T142636Z
LAST-MODIFIED:20260418T084612Z
UID:25313-1785398400-1785690000@upaindia.org
SUMMARY:National Championships
DESCRIPTION:EventsUnited Powerlifting Association (UPA)				\n				\n					\n		\n					\n		\n				\n						\n					\n			\n						\n				\n							\n			\n		\n						\n				\n					\n		\n					\n		\n				\n						\n					\n			\n						\n				\n					UPA AchievementsSHOWCASING STRENGTH \nACROSS INDIA				\n				\n				\n				\n							\n			\n		\n						\n				\n				\n				\n									United Powerlifting Association regularly organizes state\, regional\, and national level championships to provide athletes with opportunities to compete\, improve their performance\, and gain recognition in the sport. The upcoming championship will bring together powerlifters from different states to compete across multiple categories including Classic and Equipped divisions for both men and women. Participants from Sub-Junior\, Junior\, Open\, and Masters categories will compete in the following events: Full PowerliftingBench PressDeadlift								\n				\n					\n		\n				\n			\n						\n				\n							\n						\n						\n					\n			\n						\n				\n							\n			\n		\n						\n				\n					\n		\n					\n		\n				\n						\n					\n			\n						\n				\n					Upcoming  Events				\n				\n				\n				\n							\n			\n		\n						\n				\n					\n		\n					\n		\n				\n						\n					\n			\n						\n				\n					\n		\n					State Championship\n\n            Nashik\n				May 2\, 2026-May 4\, 2026\n            \n\n                            \n                    Read more\n                \n		\n	\n    \n\n		\n					western India Championship\n\n            Gondia\n				June 12\, 2026-June 14\, 2026\n            \n\n                            \n                    Read more\n                \n		\n	\n    \n\n		\n					National Championships\n\n            Chattisgarh\n				July 30\, 2026-August 2\, 2026\n            \n\n                            \n                    Read more\n                \n		\n	\n    \n				\n				\n				\n				\n					\n	« All Events\n				\n				\n					\n		\n					\n		\n				\n						\n				\n					\n		\n					\n		\n				\n						\n					\n			\n						\n				\n							\n			\n		\n						\n				\n					\n		\n					\n		\n				\n						\n					\n			\n						\n				\n							\n			\n		\n						\n				\n				\n				\n									The event aims to promote healthy competition\, discover emerging talent\, and prepareathletes for international-level participation under World Powerlifting (WP). UPA continues to create platforms where athletes can showcase their strength\,discipline\, and dedication while promoting the spirit of sportsmanship. Further details regarding event dates\, venue\, and registrations will be announced soon.
URL:https://upaindia.org/upa-event/national-championships/
LOCATION:Chattisgarh\, Chattisgarh\, Maharashtra\, India
CATEGORIES:UPA Events
END:VEVENT
END:VCALENDAR