BEGIN:VCALENDAR
VERSION:2.0
PRODID:-//UPA India - ECPv6.15.20//NONSGML v1.0//EN
CALSCALE:GREGORIAN
METHOD:PUBLISH
X-WR-CALNAME:UPA India
X-ORIGINAL-URL:https://upaindia.org
X-WR-CALDESC:Events for UPA India
REFRESH-INTERVAL;VALUE=DURATION:PT1H
X-Robots-Tag:noindex
X-PUBLISHED-TTL:PT1H
BEGIN:VTIMEZONE
TZID:Asia/Kolkata
BEGIN:STANDARD
TZOFFSETFROM:+0530
TZOFFSETTO:+0530
TZNAME:IST
DTSTART:20250101T000000
END:STANDARD
END:VTIMEZONE
BEGIN:VEVENT
DTSTART;TZID=Asia/Kolkata:20260730T080000
DTEND;TZID=Asia/Kolkata:20260802T170000
DTSTAMP:20260420T080231
CREATED:20260412T142636Z
LAST-MODIFIED:20260418T084612Z
UID:25313-1785398400-1785690000@upaindia.org
SUMMARY:National Championships
DESCRIPTION:
URL:https://upaindia.org/upa-event/national-championships/
LOCATION:Chattisgarh\, Chattisgarh\, Maharashtra\, India
CATEGORIES:UPA Events
END:VEVENT
END:VCALENDAR